BEGIN:VCALENDAR
VERSION:2.0
PRODID:-//Fédération de Pêche des Hautes Alpes - ECPv4.7.3//NONSGML v1.0//EN
CALSCALE:GREGORIAN
METHOD:PUBLISH
X-WR-CALNAME:Fédération de Pêche des Hautes Alpes
X-ORIGINAL-URL:https://peche-hautes-alpes.com
X-WR-CALDESC:Évènements pour Fédération de Pêche des Hautes Alpes
BEGIN:VEVENT
DTSTART;TZID=Europe/Paris:20210612T090000
DTEND;TZID=Europe/Paris:20210612T130000
DTSTAMP:20260425T170512
CREATED:20210312T181003Z
LAST-MODIFIED:20210315T101405Z
UID:14432-1623488400-1623502800@peche-hautes-alpes.com
SUMMARY:FORMATION PECHE DES SALMONIDES AUX LEURRES POUR LES 12 ANS+ ET ADULTES - BRIANCON
DESCRIPTION:L’association « Les Pêcheurs Briançonnais » et la Fédé de pêche 05 proposent une Formation « Pêche des salmonidés aux leurres » pour les ados (12 ans +) et adultes. \nL’ensemble du matériel nécessaire à l’activité est prêté par la Fédération (cannes\, petit matériel\, appâts\, amorce…) \nAnimations 20 euros et Carte de Pêche Hautes-Alpes (05) obligatoire. \nPour toutes réservations\, merci de contacter au 04 92 21 36 09 – Thib’eau pêche Briançon. \n\nArticles similaires :\n\n\nHautes-Alpes : La truite arc-en-ciel est-elle un danger pour notre truite fario ? \n\n\n\nPÊCHE POSSIBLE TOUS LES JOURS\, toute l’année sur Serre-Poncon ! \n\n\n\nSERRE PONCON : BROCHETS MARQUES – APPEL AUX PECHEURS \n\n\n\n \n
URL:https://peche-hautes-alpes.com/event/14432/
LOCATION:Briançon
ATTACH;FMTTYPE=image/png:https://peche-hautes-alpes.com/wp-content/uploads/2021/03/Formation-peche-salmonides-aux-leurres.png
ORGANIZER;CN="association%20de%20p%C3%AAche%20Les%20P%C3%AAcheurs%20Brian%C3%A7onnais":MAILTO:eric.bellon@outlook.fr
END:VEVENT
END:VCALENDAR