BEGIN:VCALENDAR
VERSION:2.0
PRODID:-//Fédération de Pêche des Hautes Alpes - ECPv4.7.3//NONSGML v1.0//EN
CALSCALE:GREGORIAN
METHOD:PUBLISH
X-WR-CALNAME:Fédération de Pêche des Hautes Alpes
X-ORIGINAL-URL:https://peche-hautes-alpes.com
X-WR-CALDESC:Évènements pour Fédération de Pêche des Hautes Alpes
BEGIN:VEVENT
DTSTART;TZID=Europe/Paris:20210710T100000
DTEND;TZID=Europe/Paris:20210710T163000
DTSTAMP:20260426T000937
CREATED:20210702T144623Z
LAST-MODIFIED:20210702T144656Z
UID:15179-1625911200-1625934600@peche-hautes-alpes.com
SUMMARY:FETE DE LA PECHE POUR LES ENFANTS - SAINT CHAFFREY
DESCRIPTION:SAINT CHAFFREY : PARTICIPEZ A LA PROCHAINE EDITION de la « FETE DE LA PECHE POUR LES ENFANTS »!\nRetrouvez-nous ce samedi 10 juillet 2021\, pour la prochaine édition de « La Fête de la Pêche pour les enfants » sur les différents stands d’initiation.\nOrganisée par les bénévoles de l’association de pêche « Guisane Romanche »\, la Fédération de Pêche des Hautes-Alpes en partenariat avec l’Office de Tourisme «Serre-Chevalier Vallée» et la Mairie de Saint Chaffrey\nOn se retrouve samedi 10 juillet 2021! \n\nArticles similaires :\n\n\nPÊCHE POSSIBLE TOUS LES JOURS\, toute l’année sur Serre-Poncon ! \n\n\n\nHautes-Alpes : La truite arc-en-ciel est-elle un danger pour notre truite fario ? \n\n\n\nRetrouvez-nous sur Facebook \n\n\n\n \n
URL:https://peche-hautes-alpes.com/event/fete-de-la-peche-pour-les-enfants-saint-chaffrey-2/
LOCATION:Saint Chaffrey
ATTACH;FMTTYPE=image/jpeg:https://peche-hautes-alpes.com/wp-content/uploads/2021/07/Serre-chevalier-vallée.jpg
END:VEVENT
END:VCALENDAR