BEGIN:VCALENDAR
VERSION:2.0
PRODID:-//Fédération de Pêche des Hautes Alpes - ECPv4.7.3//NONSGML v1.0//EN
CALSCALE:GREGORIAN
METHOD:PUBLISH
X-WR-CALNAME:Fédération de Pêche des Hautes Alpes
X-ORIGINAL-URL:https://peche-hautes-alpes.com
X-WR-CALDESC:Évènements pour Fédération de Pêche des Hautes Alpes
BEGIN:VEVENT
DTSTART;TZID=Europe/Paris:20190406T080000
DTEND;TZID=Europe/Paris:20190406T170000
DTSTAMP:20260420T051623
CREATED:20190130T112517Z
LAST-MODIFIED:20190130T112517Z
UID:9770-1554537600-1554570000@peche-hautes-alpes.com
SUMMARY:Initiation jeunes sur Parcours jeunes pêche au Toc 14h Tel : 04 92 2136 09
DESCRIPTION:\nArticles similaires :\n\n\nPÊCHE POSSIBLE TOUS LES JOURS\, toute l’année sur Serre-Poncon ! \n\n\n\nRetrouvez-nous sur Facebook \n\n\n\n \n
URL:https://peche-hautes-alpes.com/event/initiation-jeunes-sur-parcours-jeunes-peche-au-toc-14h-tel-04-92-2136-09-2/
LOCATION:Briançon
END:VEVENT
END:VCALENDAR