BEGIN:VCALENDAR
VERSION:2.0
PRODID:-//Fédération de Pêche des Hautes Alpes - ECPv4.7.3//NONSGML v1.0//EN
CALSCALE:GREGORIAN
METHOD:PUBLISH
X-WR-CALNAME:Fédération de Pêche des Hautes Alpes
X-ORIGINAL-URL:https://peche-hautes-alpes.com
X-WR-CALDESC:Évènements pour Fédération de Pêche des Hautes Alpes
BEGIN:VEVENT
DTSTART;TZID=Europe/Paris:20210715T170000
DTEND;TZID=Europe/Paris:20210715T193000
DTSTAMP:20260426T043454
CREATED:20210315T103056Z
LAST-MODIFIED:20210315T103056Z
UID:14548-1626368400-1626377400@peche-hautes-alpes.com
SUMMARY:INITIATION PECHE A LA MOUCHE POUR LES 12 ANS+ ET ADULTES - BRIANCON
DESCRIPTION:L’Association « Les Pêcheurs Briançonnais » met en place une animation « Pêche à la mouche » chaque semaine au Parc de la Schappe en collaboration avec la Fédération Départementale de Pêche des Hautes-Alpes. \nDécouverte du montage de mouches artificielles\, apprentissage à la gestuelle du ‘lancer au fouet’ et en guise de cerise sur le gâteau… le privilège de pêcher sur le plan d’eau du parc – pratique réservée aux écoles de pêche de l’association Briançonnaise. \nPublics : Ados (12 ans + et adultes) \nPour participer à ces initiations\, inscrivez-vous à\n“Thib’EAU Pêche” :\n18 Avenue 159ème Ria -Briançon 04 92 21 36 09 \n\nArticles similaires :\n\n\nPÊCHE POSSIBLE TOUS LES JOURS\, toute l’année sur Serre-Poncon ! \n\n\n\nHautes-Alpes : La truite arc-en-ciel est-elle un danger pour notre truite fario ? \n\n\n\nSERRE PONCON : BROCHETS MARQUES – APPEL AUX PECHEURS \n\n\n\n \n
URL:https://peche-hautes-alpes.com/event/initiation-peche-a-la-mouche-pour-les-12-ans-et-adultes-briancon/
ATTACH;FMTTYPE=image/png:https://peche-hautes-alpes.com/wp-content/uploads/2021/03/Initiation-peche-mouche.png
ORGANIZER;CN="association%20de%20p%C3%AAche%20Les%20P%C3%AAcheurs%20Brian%C3%A7onnais":MAILTO:eric.bellon@outlook.fr
END:VEVENT
END:VCALENDAR