BEGIN:VCALENDAR
VERSION:2.0
PRODID:-//Fédération de Pêche des Hautes Alpes - ECPv4.7.3//NONSGML v1.0//EN
CALSCALE:GREGORIAN
METHOD:PUBLISH
X-WR-CALNAME:Fédération de Pêche des Hautes Alpes
X-ORIGINAL-URL:https://peche-hautes-alpes.com
X-WR-CALDESC:Évènements pour Fédération de Pêche des Hautes Alpes
BEGIN:VEVENT
DTSTART;TZID=Europe/Paris:20240629T140000
DTEND;TZID=Europe/Paris:20240629T160000
DTSTAMP:20260422T132457
CREATED:20240202T153059Z
LAST-MODIFIED:20240202T153059Z
UID:22373-1719669600-1719676800@peche-hautes-alpes.com
SUMMARY:INITIATION PECHE AU COUP - ENFANTS DE 8 A 12 ANS -  GAP
DESCRIPTION:Initiation pêche au coup à Gap Charence pour les moins de 12 ans. Infos et réservations au : 06 46 13 17 63. \n\nArticles similaires :\n\n\nRetrouvez-nous sur Facebook \n\n\n\nHautes-Alpes : La truite arc-en-ciel est-elle un danger pour notre truite fario ? \n\n\n\nPÊCHE POSSIBLE TOUS LES JOURS\, toute l’année sur Serre-Poncon ! \n\n\n\n \n
URL:https://peche-hautes-alpes.com/event/initiation-peche-au-coup-enfants-de-8-a-12-ans-gap/
LOCATION:Gap
ATTACH;FMTTYPE=image/png:https://peche-hautes-alpes.com/wp-content/uploads/2024/02/Coup-Gap.jgp_-1.png
END:VEVENT
END:VCALENDAR