BEGIN:VCALENDAR
VERSION:2.0
PRODID:-//Fédération de Pêche des Hautes Alpes - ECPv4.7.3//NONSGML v1.0//EN
CALSCALE:GREGORIAN
METHOD:PUBLISH
X-WR-CALNAME:Fédération de Pêche des Hautes Alpes
X-ORIGINAL-URL:https://peche-hautes-alpes.com
X-WR-CALDESC:Évènements pour Fédération de Pêche des Hautes Alpes
BEGIN:VEVENT
DTSTART;TZID=Europe/Paris:20210609T140000
DTEND;TZID=Europe/Paris:20210609T160000
DTSTAMP:20260425T154259
CREATED:20210312T180350Z
LAST-MODIFIED:20210315T101315Z
UID:14429-1623247200-1623254400@peche-hautes-alpes.com
SUMMARY:INITIATION PECHE AU COUP - ENFANTS 8-12ANS - BRIANCON
DESCRIPTION:C’est reparti ! \nL’association « Les pêcheurs Briançonnais » et la Fédé de Pêche 05 \nproposent une animation pêche pour les enfants : \n9 juin – 15 et 29 juillet – 12 AOUT 2021 de 14 heures à 16 heures au plan des Ribes \nAnimation pêche au flotteur \nEnfants de moins de 12 ans \nInscription 04 92 21 36 09 \nGratuit. Carte de pêche obligatoire \n\nArticles similaires :\n\n\nHautes-Alpes : La truite arc-en-ciel est-elle un danger pour notre truite fario ? \n\n\n\nSERRE PONCON : BROCHETS MARQUES – APPEL AUX PECHEURS \n\n\n\nPÊCHE POSSIBLE TOUS LES JOURS\, toute l’année sur Serre-Poncon ! \n\n\n\n \n
URL:https://peche-hautes-alpes.com/event/initiation-peche-au-coup-enfants/
LOCATION:Briançon
ATTACH;FMTTYPE=image/png:https://peche-hautes-alpes.com/wp-content/uploads/2021/03/Initiation-peche-au-coup.png
ORGANIZER;CN="association%20de%20p%C3%AAche%20Les%20P%C3%AAcheurs%20Brian%C3%A7onnais":MAILTO:eric.bellon@outlook.fr
END:VEVENT
END:VCALENDAR