BEGIN:VCALENDAR
VERSION:2.0
PRODID:-//Fédération de Pêche des Hautes Alpes - ECPv4.7.3//NONSGML v1.0//EN
CALSCALE:GREGORIAN
METHOD:PUBLISH
X-WR-CALNAME:Fédération de Pêche des Hautes Alpes
X-ORIGINAL-URL:https://peche-hautes-alpes.com
X-WR-CALDESC:Évènements pour Fédération de Pêche des Hautes Alpes
BEGIN:VEVENT
DTSTART;TZID=Europe/Paris:20210407T133000
DTEND;TZID=Europe/Paris:20210407T163000
DTSTAMP:20260425T112658
CREATED:20210312T173355Z
LAST-MODIFIED:20210315T100942Z
UID:14420-1617802200-1617813000@peche-hautes-alpes.com
SUMMARY:INITIATION PECHE AU TOC - ENFANTS 8-12 ANS - BRIANCON
DESCRIPTION:Apprentissage de « la pêche au toc »\,\nGuisane – Briançon\, Parcours Jeunes\, mercredi 31 mars et 7 avril 2021. Association Les Pêcheurs Briançonnais\, Fédé Pêche Hautes Alpes. Réservé aux enfants de – 12 ans. Carte de pêche obligatoire. Contact Eric Bellon 06 89 29 07 68 \n\nArticles similaires :\n\n\nHautes-Alpes : La truite arc-en-ciel est-elle un danger pour notre truite fario ? \n\n\n\nSERRE PONCON : BROCHETS MARQUES – APPEL AUX PECHEURS \n\n\n\n \n
URL:https://peche-hautes-alpes.com/event/initiation-peche-au-toc-enfants-2/
ATTACH;FMTTYPE=image/png:https://peche-hautes-alpes.com/wp-content/uploads/2021/03/Initiation-peche-toc.png
ORGANIZER;CN="association%20de%20p%C3%AAche%20Les%20P%C3%AAcheurs%20Brian%C3%A7onnais":MAILTO:eric.bellon@outlook.fr
END:VEVENT
END:VCALENDAR