BEGIN:VCALENDAR
VERSION:2.0
PRODID:-//Fédération de Pêche des Hautes Alpes - ECPv4.7.3//NONSGML v1.0//EN
CALSCALE:GREGORIAN
METHOD:PUBLISH
X-WR-CALNAME:Fédération de Pêche des Hautes Alpes
X-ORIGINAL-URL:https://peche-hautes-alpes.com
X-WR-CALDESC:Évènements pour Fédération de Pêche des Hautes Alpes
BEGIN:VEVENT
DTSTART;TZID=Europe/Paris:20190427T080000
DTEND;TZID=Europe/Paris:20190427T170000
DTSTAMP:20260419T232110
CREATED:20190130T112652Z
LAST-MODIFIED:20190130T112652Z
UID:9779-1556352000-1556384400@peche-hautes-alpes.com
SUMMARY:Ouverture de la pêche au brochet
DESCRIPTION:\nArticles similaires :\n\n\nPÊCHE POSSIBLE TOUS LES JOURS\, toute l’année sur Serre-Poncon ! \n\n\n\nHautes-Alpes : La truite arc-en-ciel est-elle un danger pour notre truite fario ? \n\n\n\n \n
URL:https://peche-hautes-alpes.com/event/ouverture-de-la-peche-au-brochet/
LOCATION:Hautes-Alpes
END:VEVENT
END:VCALENDAR