BEGIN:VCALENDAR
VERSION:2.0
PRODID:-//Fédération de Pêche des Hautes Alpes - ECPv4.7.3//NONSGML v1.0//EN
CALSCALE:GREGORIAN
METHOD:PUBLISH
X-WR-CALNAME:Fédération de Pêche des Hautes Alpes
X-ORIGINAL-URL:https://peche-hautes-alpes.com
X-WR-CALDESC:Évènements pour Fédération de Pêche des Hautes Alpes
BEGIN:VEVENT
DTSTART;TZID=Europe/Paris:20190309T080000
DTEND;TZID=Europe/Paris:20190309T170000
DTSTAMP:20260420T092734
CREATED:20190130T112340Z
LAST-MODIFIED:20190130T112340Z
UID:9764-1552118400-1552150800@peche-hautes-alpes.com
SUMMARY:Ouverture Générale de la pêche en 1ère catégorie
DESCRIPTION:\nArticles similaires :\n\n\nPÊCHE POSSIBLE TOUS LES JOURS\, toute l’année sur Serre-Poncon ! \n\n\n\nHautes-Alpes : La truite arc-en-ciel est-elle un danger pour notre truite fario ? \n\n\n\n \n
URL:https://peche-hautes-alpes.com/event/ouverture-generale-de-la-peche-en-1ere-categorie/
LOCATION:Hautes-Alpes
END:VEVENT
END:VCALENDAR