BEGIN:VCALENDAR
VERSION:2.0
PRODID:-//Fédération de Pêche des Hautes Alpes - ECPv4.7.3//NONSGML v1.0//EN
CALSCALE:GREGORIAN
METHOD:PUBLISH
X-WR-CALNAME:Fédération de Pêche des Hautes Alpes
X-ORIGINAL-URL:https://peche-hautes-alpes.com
X-WR-CALDESC:Évènements pour Fédération de Pêche des Hautes Alpes
BEGIN:VEVENT
DTSTART;TZID=Europe/Paris:20190118T080000
DTEND;TZID=Europe/Paris:20190118T170000
DTSTAMP:20260420T175613
CREATED:20190130T112008Z
LAST-MODIFIED:20190130T112008Z
UID:9747-1547798400-1547830800@peche-hautes-alpes.com
SUMMARY:Remise du Prix du Challenge 'Georges Cortay'
DESCRIPTION:\nArticles similaires :\nNone Found\n\n \n
URL:https://peche-hautes-alpes.com/event/remise-du-prix-du-challenge-georges-cortay/
LOCATION:Hautes-Alpes
END:VEVENT
END:VCALENDAR