BEGIN:VCALENDAR
VERSION:2.0
PRODID:-//Fédération de Pêche des Hautes Alpes - ECPv4.7.3//NONSGML v1.0//EN
CALSCALE:GREGORIAN
METHOD:PUBLISH
X-WR-CALNAME:Fédération de Pêche des Hautes Alpes
X-ORIGINAL-URL:https://peche-hautes-alpes.com
X-WR-CALDESC:Évènements pour Fédération de Pêche des Hautes Alpes
BEGIN:VEVENT
DTSTART;TZID=Europe/Paris:20250704T140000
DTEND;TZID=Europe/Paris:20250704T170000
DTSTAMP:20260420T101808
CREATED:20250703T092106Z
LAST-MODIFIED:20250703T092338Z
UID:25464-1751637600-1751648400@peche-hautes-alpes.com
SUMMARY:SERRES - INITIATION A LA PÊCHE A LA MOUCHE
DESCRIPTION:INITIATION A LA PÊCHE A LA MOUCHE 14H – 17H\nLa Germanette – SERRES\nPublics : Jeunes plus de 12 ans et adultes Tarifs : Adulte 30 €\, Jeune 20 € la séance Minimum 2\, maximum 6. Inscription obligatoire au : 06 22 41 51 44 \n\nArticles similaires :\n\n\nRetrouvez-nous sur Facebook \n\n\n\nPÊCHE POSSIBLE TOUS LES JOURS\, toute l’année sur Serre-Poncon ! \n\n\n\nHautes-Alpes : La truite arc-en-ciel est-elle un danger pour notre truite fario ? \n\n\n\n \n
URL:https://peche-hautes-alpes.com/event/serres-initiation-a-la-peche-a-la-mouche/
LOCATION:Serres\, 05166
ATTACH;FMTTYPE=image/jpeg:https://peche-hautes-alpes.com/wp-content/uploads/2025/07/P1040330.jpeg
END:VEVENT
END:VCALENDAR