BEGIN:VCALENDAR
VERSION:2.0
PRODID:-//Fédération de Pêche des Hautes Alpes - ECPv4.7.3//NONSGML v1.0//EN
CALSCALE:GREGORIAN
METHOD:PUBLISH
X-WR-CALNAME:Fédération de Pêche des Hautes Alpes
X-ORIGINAL-URL:https://peche-hautes-alpes.com
X-WR-CALDESC:Évènements pour Fédération de Pêche des Hautes Alpes
BEGIN:VEVENT
DTSTART;TZID=Europe/Paris:20190403T080000
DTEND;TZID=Europe/Paris:20190403T170000
DTSTAMP:20260420T064507
CREATED:20190130T112457Z
LAST-MODIFIED:20190130T112457Z
UID:9768-1554278400-1554310800@peche-hautes-alpes.com
SUMMARY:Soirée montage de Mouches – 19h30 Tel 06 27 29 46 19
DESCRIPTION:\nArticles similaires :\n\n\nPÊCHE POSSIBLE TOUS LES JOURS\, toute l’année sur Serre-Poncon ! \n\n\n\n \n
URL:https://peche-hautes-alpes.com/event/soiree-montage-de-mouches-19h30-tel-06-27-29-46-19-3/
LOCATION:Embrun
END:VEVENT
END:VCALENDAR