BEGIN:VCALENDAR
VERSION:2.0
PRODID:-//Fédération de Pêche des Hautes Alpes - ECPv4.7.3//NONSGML v1.0//EN
CALSCALE:GREGORIAN
METHOD:PUBLISH
X-WR-CALNAME:Fédération de Pêche des Hautes Alpes
X-ORIGINAL-URL:https://peche-hautes-alpes.com
X-WR-CALDESC:Évènements pour Fédération de Pêche des Hautes Alpes
BEGIN:VEVENT
DTSTART;TZID=Europe/Paris:20190515T080000
DTEND;TZID=Europe/Paris:20190515T170000
DTSTAMP:20260419T231940
CREATED:20190130T112808Z
LAST-MODIFIED:20190130T112808Z
UID:9783-1557907200-1557939600@peche-hautes-alpes.com
SUMMARY:Soirée montage de Mouches – 19h30 Tel 06 27 29 46 19
DESCRIPTION:\nArticles similaires :\n\n\nPÊCHE POSSIBLE TOUS LES JOURS\, toute l’année sur Serre-Poncon ! \n\n\n\n \n
URL:https://peche-hautes-alpes.com/event/soiree-montage-de-mouches-19h30-tel-06-27-29-46-19-4/
LOCATION:Embrun
END:VEVENT
END:VCALENDAR