BEGIN:VCALENDAR
VERSION:2.0
PRODID:-//Fédération de Pêche des Hautes Alpes - ECPv4.7.3//NONSGML v1.0//EN
CALSCALE:GREGORIAN
METHOD:PUBLISH
X-WR-CALNAME:Fédération de Pêche des Hautes Alpes
X-ORIGINAL-URL:https://peche-hautes-alpes.com
X-WR-CALDESC:Évènements pour Fédération de Pêche des Hautes Alpes
BEGIN:VEVENT
DTSTART;TZID=Europe/Paris:20190206T080000
DTEND;TZID=Europe/Paris:20190206T170000
DTSTAMP:20260420T151435
CREATED:20190130T112050Z
LAST-MODIFIED:20190130T112116Z
UID:9752-1549440000-1549472400@peche-hautes-alpes.com
SUMMARY:Soirée montage de Mouches – 19h30 Tel 06 27 29 46 19
DESCRIPTION:\nArticles similaires :\n\n\nPÊCHE POSSIBLE TOUS LES JOURS\, toute l’année sur Serre-Poncon ! \n\n\n\n \n
URL:https://peche-hautes-alpes.com/event/soiree-montage-de-mouches-19h30-tel-06-27-29-46-19/
LOCATION:Embrun
END:VEVENT
END:VCALENDAR