BEGIN:VCALENDAR
VERSION:2.0
PRODID:-//Fédération de Pêche des Hautes Alpes - ECPv4.7.3//NONSGML v1.0//EN
CALSCALE:GREGORIAN
METHOD:PUBLISH
X-WR-CALNAME:Fédération de Pêche des Hautes Alpes
X-ORIGINAL-URL:https://peche-hautes-alpes.com
X-WR-CALDESC:Évènements pour Fédération de Pêche des Hautes Alpes
BEGIN:VEVENT
DTSTART;TZID=Europe/Paris:20190417T080000
DTEND;TZID=Europe/Paris:20190417T170000
DTSTAMP:20260420T020142
CREATED:20190130T112612Z
LAST-MODIFIED:20190130T112612Z
UID:9775-1555488000-1555520400@peche-hautes-alpes.com
SUMMARY:Stage de pêche JEUNE (8-12ans) – Multi-techniques / 06 27 29 46 19
DESCRIPTION:\nArticles similaires :\n\n\nPÊCHE POSSIBLE TOUS LES JOURS\, toute l’année sur Serre-Poncon ! \n\n\n\n \n
URL:https://peche-hautes-alpes.com/event/stage-de-peche-jeune-8-12ans-multi-techniques-06-27-29-46-19-2/
LOCATION:Chateauroux
END:VEVENT
END:VCALENDAR