BEGIN:VCALENDAR
VERSION:2.0
PRODID:-//Fédération de Pêche des Hautes Alpes - ECPv4.7.3//NONSGML v1.0//EN
CALSCALE:GREGORIAN
METHOD:PUBLISH
X-WR-CALNAME:Fédération de Pêche des Hautes Alpes
X-ORIGINAL-URL:https://peche-hautes-alpes.com
X-WR-CALDESC:Évènements pour Fédération de Pêche des Hautes Alpes
BEGIN:VEVENT
DTSTART;TZID=Europe/Paris:20250505T100000
DTEND;TZID=Europe/Paris:20250505T193000
DTSTAMP:20260421T065758
CREATED:20250207T093603Z
LAST-MODIFIED:20250207T093604Z
UID:24658-1746439200-1746473400@peche-hautes-alpes.com
SUMMARY:GAP : LA PECHE A GAP FOIRE EXPO 2025
DESCRIPTION:La Fédération de Pêche des Hautes-Alpes sera présente à la Foire Expo de Gap 2025\, offrant aux visiteurs une occasion unique de découvrir l’univers de la pêche dans nos montagnes. Des démonstrations\, des animations pédagogiques et simulateur\, des conseils pratiques et des informations sur les différentes pratiques de pêche locales seront au programme. Cette présence souligne l’engagement de la Fédération pour promouvoir la préservation des milieux aquatiques et encourager la pratique responsable de la pêche dans les Hautes-Alpes. Un rendez-vous à ne pas manquer pour les passionnés et curieux de nature ! \n
URL:https://peche-hautes-alpes.com/event/gap-la-peche-a-gap-foire-expo-2025-3/
LOCATION:Gap
ATTACH;FMTTYPE=image/png:https://peche-hautes-alpes.com/wp-content/uploads/2025/02/Gap-Foire-Expo-2025.png
END:VEVENT
END:VCALENDAR