BEGIN:VCALENDAR
VERSION:2.0
PRODID:-//Fédération de Pêche des Hautes Alpes - ECPv4.7.3//NONSGML v1.0//EN
CALSCALE:GREGORIAN
METHOD:PUBLISH
X-WR-CALNAME:Fédération de Pêche des Hautes Alpes
X-ORIGINAL-URL:https://peche-hautes-alpes.com
X-WR-CALDESC:Évènements pour Fédération de Pêche des Hautes Alpes
BEGIN:VEVENT
DTSTART;TZID=Europe/Paris:20250524T090000
DTEND;TZID=Europe/Paris:20250524T163000
DTSTAMP:20260420T044502
CREATED:20250207T091621Z
LAST-MODIFIED:20250415T134507Z
UID:24649-1748077200-1748104200@peche-hautes-alpes.com
SUMMARY:FORMATION A LA PECHE A LA MOUCHE - ADOS 14 ANS+ ET ADULTES - BRIANÇON
DESCRIPTION:Formation pêche à la mouche\, Briançon\, samedi 124 mai 2025. Association Les Pêcheurs Briançonnias\, Fédé Pêche Hautes Alpes. Réservée aux ados de + 14 ans et aux adultes. Carte de pêche 05 Hautes-Alpes obligatoire. Contact Fédé Pêche 05 : 07 87 63 07 02 \n
URL:https://peche-hautes-alpes.com/event/briancon-formation-a-la-peche-a-la-mouche/
LOCATION:Briançon
ATTACH;FMTTYPE=image/jpeg:https://peche-hautes-alpes.com/wp-content/uploads/2025/02/FORMATION-PECHE-A-LA-MOUCHE-1.jpg
ORGANIZER;CN="association%20de%20p%C3%AAche%20Les%20P%C3%AAcheurs%20Brian%C3%A7onnais":MAILTO:eric.bellon@outlook.fr
END:VEVENT
END:VCALENDAR