BEGIN:VCALENDAR
VERSION:2.0
PRODID:-//Fédération de Pêche des Hautes Alpes - ECPv4.7.3//NONSGML v1.0//EN
CALSCALE:GREGORIAN
METHOD:PUBLISH
X-WR-CALNAME:Fédération de Pêche des Hautes Alpes
X-ORIGINAL-URL:https://peche-hautes-alpes.com
X-WR-CALDESC:Évènements pour Fédération de Pêche des Hautes Alpes
BEGIN:VEVENT
DTSTART;TZID=Europe/Paris:20250621T093000
DTEND;TZID=Europe/Paris:20250621T113000
DTSTAMP:20260420T084939
CREATED:20250207T105144Z
LAST-MODIFIED:20250305T145118Z
UID:24683-1750498200-1750505400@peche-hautes-alpes.com
SUMMARY:INITIATION PECHE AU COUP - ENFANTS (8-12 ANS) - GAP
DESCRIPTION:Initiation à la pêche au coup\, Gap\, samedi 21 juin 2025. Association La Gaule Gapençaise\, Fédé Pêche Hautes Alpes. Réservée aux enfants de 8 à 12 ans. Carte de pêche 05 Hautes-Alpes obligatoire. Contact Fédé Pêche 05 : 06 46 13 17 63. \n
URL:https://peche-hautes-alpes.com/event/gap-initiation-peche-au-coup/
LOCATION:Gap
ATTACH;FMTTYPE=image/png:https://peche-hautes-alpes.com/wp-content/uploads/2025/02/Initiation-peche-Gap.png
END:VEVENT
END:VCALENDAR