BEGIN:VCALENDAR
VERSION:2.0
PRODID:-//Fédération de Pêche des Hautes Alpes - ECPv4.7.3//NONSGML v1.0//EN
CALSCALE:GREGORIAN
METHOD:PUBLISH
X-WR-CALNAME:Fédération de Pêche des Hautes Alpes
X-ORIGINAL-URL:https://peche-hautes-alpes.com
X-WR-CALDESC:Évènements pour Fédération de Pêche des Hautes Alpes
BEGIN:VEVENT
DTSTART;TZID=Europe/Paris:20250802T100000
DTEND;TZID=Europe/Paris:20250802T170000
DTSTAMP:20260419T124100
CREATED:20250730T064250Z
LAST-MODIFIED:20250730T064250Z
UID:25538-1754128800-1754154000@peche-hautes-alpes.com
SUMMARY:[🎣🌲 LES ORRES : UN STAND DÉDIÉ A LA TRUITE MÉDITARRANÉENNE CE WEEK-END AU FESTIVAL "GAME OF TREES"!]
DESCRIPTION:Bonne nouvelle ! Ce week-end\, à l’occasion du festival Game of Trees aux Orres\, venez découvrir un stand consacré à la fabuleuse truite méditerranéenne\, espèce emblématique de nos rivières 🌊🐟!\n👉 Au programme :\n✨ Découverte et présentation de l’espèce\n🎥 Supports ludiques\, aquarium\, cycle de vie\, détermination\, spécificités…\n👨‍🔬 Échanges avec des passionnés et spécialistes\n🌱 Sensibilisation à la protection de son habitat.\nUne occasion exclusive de mieux comprendre et protéger la biodiversité locale tout en profitant de l’ambiance conviviale et festive de l’événement “Game of trees” !\n🙏Merci aux organisateurs(trices) pour l’invitation!\n📍 Rendez-vous au Front de neiges Les Orres 2006\, ce samedi 2 août 2025.\n💚 Curieux\, amoureux de nature ou simplement de passage… Venez nombreux ! \n
URL:https://peche-hautes-alpes.com/event/%f0%9f%8e%a3%f0%9f%8c%b2-les-orres-un-stand-dedie-a-la-truite-meditarraneenne-ce-week-end-au-festival-game-of-trees/
LOCATION:Les Orres\, France
ATTACH;FMTTYPE=image/jpeg:https://peche-hautes-alpes.com/wp-content/uploads/2025/07/festival-game-of-trees.jpeg
ORGANIZER;CN="F%C3%A9d%C3%A9ration%20de%20p%C3%AAche%20des%20Hautes-Alpes":MAILTO:fede05-animation@orange.fr
END:VEVENT
END:VCALENDAR