BEGIN:VCALENDAR
VERSION:2.0
PRODID:-//Fédération de Pêche des Hautes Alpes - ECPv4.7.3//NONSGML v1.0//EN
CALSCALE:GREGORIAN
METHOD:PUBLISH
X-WR-CALNAME:Fédération de Pêche des Hautes Alpes
X-ORIGINAL-URL:https://peche-hautes-alpes.com
X-WR-CALDESC:Évènements pour Fédération de Pêche des Hautes Alpes
BEGIN:VEVENT
DTSTART;TZID=Europe/Paris:20250808T093000
DTEND;TZID=Europe/Paris:20250808T130000
DTSTAMP:20260419T220459
CREATED:20250227T160019Z
LAST-MODIFIED:20250227T160019Z
UID:24878-1754645400-1754658000@peche-hautes-alpes.com
SUMMARY:FORMATION PECHE DES CARNASSIERS - ADOS 12 ANS+ ET ADULTES - SAVINES LE LAC
DESCRIPTION:Formation à la pêche aux carnassiers\,\nSAVINES LE LAC\, Association La Gaule de Savines\, Fédé Pêche Hautes Alpes.\nRéservé aux ados (12 ans + ) et aux adultes. Carte de pêche Hautes-Alpes (05) obligatoire. Contact 06 27 29 46 19 \n
URL:https://peche-hautes-alpes.com/event/formation-peche-des-carnassiers-ados-12-ans-et-adultes-savines-le-lac/
LOCATION:Savines Le Lac
ATTACH;FMTTYPE=image/png:https://peche-hautes-alpes.com/wp-content/uploads/2025/02/Formation-peche-carnassiers.png
ORGANIZER;CN="F%C3%A9d%C3%A9ration%20de%20p%C3%AAche%20des%20Hautes-Alpes":MAILTO:fede05-animation@orange.fr
END:VEVENT
END:VCALENDAR