BEGIN:VCALENDAR
VERSION:2.0
PRODID:-//Fédération de Pêche des Hautes Alpes - ECPv4.7.3//NONSGML v1.0//EN
CALSCALE:GREGORIAN
METHOD:PUBLISH
X-WR-CALNAME:Fédération de Pêche des Hautes Alpes
X-ORIGINAL-URL:https://peche-hautes-alpes.com
X-WR-CALDESC:Évènements pour Fédération de Pêche des Hautes Alpes
BEGIN:VEVENT
DTSTART;TZID=Europe/Paris:20250812T100000
DTEND;TZID=Europe/Paris:20250812T163000
DTSTAMP:20260420T131052
CREATED:20250227T160505Z
LAST-MODIFIED:20250227T160505Z
UID:24881-1754992800-1755016200@peche-hautes-alpes.com
SUMMARY:LA PECHE EN FETE - CHATEAUROUX LES ALPES
DESCRIPTION:De 10h à 12h30 et de 14h15 à 16h30 \nPlace de la Mairie – Bassin du vivier \n• EXPOSITION DES DIFFERENTES ESPECES DE POISSONS DE NOS RIVIERES ET DE LA FAUNE. \n• ATELIERS DE MONTAGE DE MOUCHES POUR TOUS. \nA partir de 14h15 \nAU BASSIN DU VIVIER : \nPêche à la mouche pour tous en « No Kill » – Gratuit – Carte de pêche Hautes-Alpes obligatoire. \nRenseignements au 06.10.46.43.61 \n
URL:https://peche-hautes-alpes.com/event/la-peche-en-fete-chateauroux-les-alpes-7/
LOCATION:chateauroux les alpes\, France
ATTACH;FMTTYPE=image/png:https://peche-hautes-alpes.com/wp-content/uploads/2023/07/Chateauroux-les-alpes.png
END:VEVENT
END:VCALENDAR