BEGIN:VCALENDAR
VERSION:2.0
PRODID:-//Fédération de Pêche des Hautes Alpes - ECPv4.7.3//NONSGML v1.0//EN
CALSCALE:GREGORIAN
METHOD:PUBLISH
X-WR-CALNAME:Fédération de Pêche des Hautes Alpes
X-ORIGINAL-URL:https://peche-hautes-alpes.com
X-WR-CALDESC:Évènements pour Fédération de Pêche des Hautes Alpes
BEGIN:VEVENT
DTSTART;TZID=Europe/Paris:20250813T140000
DTEND;TZID=Europe/Paris:20250813T160000
DTSTAMP:20260419T183902
CREATED:20250415T140411Z
LAST-MODIFIED:20250415T140411Z
UID:25186-1755093600-1755100800@peche-hautes-alpes.com
SUMMARY:INITIATION A LA PECHE AUX LEURRES - ADOS (12-18 ANS) - BRIANÇON
DESCRIPTION:Une animation proposée par l’Association les Pêcheurs Briançonnais en collaboration avec la Fédération Départementale : Mercredi 13 Août 2025 de 14 a 16 heures Plan d’eau des Ribes\, Pêche aux leurres Enfants de 12 à 18 ans. Carte de pêche obligatoire Prêt de matériel Inscription au 07 87 63 07 02 \n
URL:https://peche-hautes-alpes.com/event/initiation-a-la-peche-aux-leurres-ados-12-18-ans-briancon-3/
LOCATION:Briançon
ATTACH;FMTTYPE=image/jpeg:https://peche-hautes-alpes.com/wp-content/uploads/2025/04/ANIMATION-PECHE-AUX-LEURRES.jpg
ORGANIZER;CN="association%20de%20p%C3%AAche%20Les%20P%C3%AAcheurs%20Brian%C3%A7onnais":MAILTO:eric.bellon@outlook.fr
END:VEVENT
BEGIN:VEVENT
DTSTART;TZID=Europe/Paris:20250813T170000
DTEND;TZID=Europe/Paris:20250813T190000
DTSTAMP:20260419T183902
CREATED:20250227T154134Z
LAST-MODIFIED:20250415T130719Z
UID:24870-1755104400-1755111600@peche-hautes-alpes.com
SUMMARY:INITIATION A LA PECHE A LA MOUCHE - ADOS 13 ANS+ ET ADULTES - BRIANÇON
DESCRIPTION:L’Association « Les Pêcheurs Briançonnais » vous propose une animation « Pêche à la mouche » pour les ados (13 ans+) et adultes \, au Parc de la Schappe en collaboration avec la Fédération Départementale de Pêche des Hautes-Alpes. \nDécouverte du montage de mouches artificielles\, apprentissage à la gestuelle du ‘lancer au fouet’ et en guise de cerise sur le gâteau… le privilège de pêcher sur le plan d’eau du parc – pratique réservée aux écoles de pêche de l’association Briançonnaise. \nPublics : Ados (13 ans+) et Adultes \nPour participer à ces initiations\, inscrivez-vous à\nl’association “Les Pêcheurs Briançonnais” – 07 87 63 07 02 \n
URL:https://peche-hautes-alpes.com/event/initiation-a-la-peche-a-la-mouche-ados-13-ans-et-adultes-briancon/
LOCATION:Briançon
ATTACH;FMTTYPE=image/jpeg:https://peche-hautes-alpes.com/wp-content/uploads/2025/02/ANIMATION-PECHE-A-LA-MOUCHE-1.jpg
ORGANIZER;CN="association%20de%20p%C3%AAche%20Les%20P%C3%AAcheurs%20Brian%C3%A7onnais":MAILTO:eric.bellon@outlook.fr
END:VEVENT
END:VCALENDAR