BEGIN:VCALENDAR
VERSION:2.0
PRODID:-//Fédération de Pêche des Hautes Alpes - ECPv4.7.3//NONSGML v1.0//EN
CALSCALE:GREGORIAN
METHOD:PUBLISH
X-WR-CALNAME:Fédération de Pêche des Hautes Alpes
X-ORIGINAL-URL:https://peche-hautes-alpes.com
X-WR-CALDESC:Évènements pour Fédération de Pêche des Hautes Alpes
BEGIN:VEVENT
DTSTART;TZID=Europe/Paris:20251004T080000
DTEND;TZID=Europe/Paris:20251004T163000
DTSTAMP:20260423T113645
CREATED:20250903T151331Z
LAST-MODIFIED:20250903T151331Z
UID:25653-1759564800-1759595400@peche-hautes-alpes.com
SUMMARY:[JFT DEVENEZ CHAMPION(NE)S DE FRANCE !] 🏆
DESCRIPTION:Des manches départementales jusqu’à la finale nationale… 🇫🇷\nLe Junior Fishing Tour (JFT)\, c’est un nouvel espace de rencontres et de confrontations tous niveaux pour les jeunes pêcheurs et pêcheuses 👧🧒.\nLe JFT Leurres est le circuit national de pêche des carnassiers aux leurres artificiels depuis le bord 🎯🐟.\nIl est ouvert à tous les pêcheurs de plus de 10 ans et moins de 18 ans qui souhaitent se lancer dans la compétition ⚔️.\n🎯 Objectif : devenir Champion de France ! 🏅\n📍 Dans les Hautes-Alpes\, deux dates sont programmées au mois d’octobre 2025 📆 :\n📞 Pour s’inscrire\, c’est facile : il suffit de nous contacter par téléphone (06 10 90 28 90) ou par mail ✉️ promotion@pechehautesalpes.fr\n🤝 Cette compétition est issue d’un partenariat entre :\nla FNPF\, la FFPS (Fédération Française des Pêches Sportives)\,\net le GIFAP (Groupement de l’Industrie Française d’Articles de Pêche).\n👦👧 Elle est dédiée aux jeunes de plus de 10 ans et moins de 18 ans.\nDeux catégories d’âge sont représentées :\n🔹 Juniors : 10 à 14 ans\n🔹 Espoirs : 14 à 17 ans\n📍 Dans les Hautes-Alpes\, les premières manches se dérouleront :\n🎣 Samedi 4 octobre 2025 – Plan d’eau d’Embrun – 10€ / Participant(e)\n🎣 Samedi 18 octobre 2025 – Plan d’eau de la Germanette – 10€ / Participant(e)\n🏆 En participant à ces deux manches départementales\, vous aurez la possibilité de devenir le ou la Champion(ne) de votre Département pour votre catégorie d’âge !\n✨ Les meilleur(e)s participant(e)s de chaque département seront ainsi qualifié(e)s pour une finale régionale 🌍\n🎉 Les grandes finales nationales viendront conclure la saison 2025/26 avec les titres de « Champion(ne) de France » pour chaque discipline 🏆🇫🇷\n🎁 Des manches départementales jusqu’aux finales nationales\, les épreuves bénéficient de dotations et de récompenses mises à disposition par les plus grandes marques de pêche 🎣🎒🏅\n📲 Pour vous inscrire\, contactez la fédération de pêche des Hautes-Alpes dès à présent :\n📞 06 10 90 28 90\n📧 promotion@pechehautesalpes.fr \n
URL:https://peche-hautes-alpes.com/event/jft-devenez-championnes-de-france-%f0%9f%8f%86/
LOCATION:Embrun\, La Manutention\, Embrun\, 05200
ATTACH;FMTTYPE=image/jpeg:https://peche-hautes-alpes.com/wp-content/uploads/2025/09/JFT_LEURRES-2025.jpg
ORGANIZER;CN="F%C3%A9d%C3%A9ration%20de%20p%C3%AAche%20des%20Hautes-Alpes":MAILTO:fede05-animation@orange.fr
END:VEVENT
END:VCALENDAR