BEGIN:VCALENDAR
VERSION:2.0
PRODID:-//Fédération de Pêche des Hautes Alpes - ECPv4.7.3//NONSGML v1.0//EN
CALSCALE:GREGORIAN
METHOD:PUBLISH
X-WR-CALNAME:Fédération de Pêche des Hautes Alpes
X-ORIGINAL-URL:https://peche-hautes-alpes.com
X-WR-CALDESC:Évènements pour Fédération de Pêche des Hautes Alpes
BEGIN:VEVENT
DTSTART;TZID=Europe/Paris:20251026T063000
DTEND;TZID=Europe/Paris:20251026T180000
DTSTAMP:20260423T130246
CREATED:20250227T165242Z
LAST-MODIFIED:20250227T165242Z
UID:24899-1761460200-1761501600@peche-hautes-alpes.com
SUMMARY:FERMETURE DE LA PECHE 2025 DANS LES LACS D'ALTITUDE DES HAUTES-ALPES
DESCRIPTION:Jusqu’au 26 Octobre 2025 pour pêcher les lacs d’altitude – PROFITONS-EN ! \nLa fermeture générale de la pêche dans les cours d’eau de 1ère catégorie a eu lieu dimanche 5 octobre 2025 dans notre département. \nHeureusement…\, on a encore jusqu’au 26 octobre 2025\, soit 4 semaines pour profiter de la pêche en lacs d’altitude! \nSavourons toute cette période de pêche ! \n
URL:https://peche-hautes-alpes.com/event/fermeture-de-la-peche-2025-dans-les-lacs-daltitude-des-hautes-alpes/
LOCATION:Hautes-Alpes
ATTACH;FMTTYPE=image/jpeg:https://peche-hautes-alpes.com/wp-content/uploads/2025/02/Fermeture-lacs-altitude-2025.jpeg
ORGANIZER;CN="F%C3%A9d%C3%A9ration%20de%20p%C3%AAche%20des%20Hautes-Alpes":MAILTO:fede05-animation@orange.fr
END:VEVENT
END:VCALENDAR